BEGIN:VCALENDAR
VERSION:2.0
PRODID:-//hs-koblenz.de//DE
CALSCALE:GREGORIAN
BEGIN:VEVENT
DTSTART:2026-10-27 10:00:00
DTEND:2026-10-28 15:30:00
LOCATION:<p>Campus Koblenz\, Konrad-Zuse-Straße 1\, 56075 Koblenz</p>
DTSTAMP:2026-04-16 10:45:05
SUMMARY:Praxis@Campus 2026 - Deine Karrieremesse
URL;VALUE=URI:https://www.hs-koblenz.de
DESCRIPTION:
UID:2026-04-16 10:45:05-2026-10-27 10:00:00-2026-10-28 15:30:00
END:VEVENT
END:VCALENDAR