BEGIN:VCALENDAR
VERSION:2.0
PRODID:-//hs-koblenz.de//DE
CALSCALE:GREGORIAN
BEGIN:VEVENT
DTSTART:2026-06-16 15:00:00
DTEND:2026-06-16 20:00:00
LOCATION:
DTSTAMP:2026-04-14 12:51:07
SUMMARY:Gemeinsam Zukunft gestalten!
URL;VALUE=URI:https://www.hs-koblenz.de
DESCRIPTION:
UID:2026-04-14 12:51:07-2026-06-16 15:00:00-2026-06-16 20:00:00
END:VEVENT
END:VCALENDAR