BEGIN:VCALENDAR
VERSION:2.0
PRODID:-//hs-koblenz.de//DE
CALSCALE:GREGORIAN
BEGIN:VEVENT
DTSTART:2026-06-12 15:30:00
DTEND:2026-06-12 16:30:00
LOCATION:<p>Hochschule Koblenz\, Rhein-Mosel-Campus</p>
<p>Raum: A250</p>
DTSTAMP:2026-04-23 10:34:04
SUMMARY:KinderUni "Du hast das Recht gehört zu werden!"
URL;VALUE=URI:https://www.hs-koblenz.de
DESCRIPTION:<p>Alle Kinder haben Rechte! Eines der wichtigsten Kinderrechte ist das Recht auf "Partizipation". Das heißt: Du darfst dich beteiligen, deine Meinung sagen, dich beschweren, gehört werden und mitbestimmen! In dieser Kinder-Uni-Vorlesung werde ich zeigen, warum das für dich wichtig ist.</p>
<p>Die interaktive Vorlesung findet im Rahmen der KinderUni statt und wird von Prof. Dr. Irit Wyrobnik durchgeführt.</p>
<p>Hier der Link zur Anmeldung: <a href="https://www.kinderuni-koblenz.de/">https://www.kinderuni-koblenz.de/</a></p>


UID:2026-04-23 10:34:04-2026-06-12 15:30:00-2026-06-12 16:30:00
END:VEVENT
END:VCALENDAR