BEGIN:VCALENDAR
VERSION:2.0
PRODID:-//hs-koblenz.de//DE
CALSCALE:GREGORIAN
BEGIN:VEVENT
DTSTART:2026-05-12 16:00:00
DTEND:2026-05-12 17:00:00
LOCATION:<p>zoom</p>
DTSTAMP:2026-04-20 12:45:16
SUMMARY:Zukunft anpacken: Virtuelle Informationsveranstaltung Studiengang Soziale Arbeit B.A.
URL;VALUE=URI:https://www.hs-koblenz.de
DESCRIPTION:<h2>Online <a class="link-download" href="t3://file?uid=176003" target="_blank">Informationsveranstaltung</a>: Soziale Arbeit Präsenz</h2>
<p>• Sie möchten sich über das Studium informieren…<br />• Sie wollen sich für das Studium bewerben…<br />• Sie sind noch unentschlossen…<br />… dann nutzen Sie kostenlos und ohne Voranmeldung unseren Vortrag und die anschließenden individuellen Online-Beratungen</p>

<p><strong>Dienstag, 12.05.2026 um 16 Uhr  via Zoom oder </strong></p>
<p><a class="link-external-blank" href="https://hs-koblenz-de.zoom-x.de/j/67085156743" target="_blank"><strong>direkt zum Zoom-Meeting</strong></a></p>


UID:2026-04-20 12:45:16-2026-05-12 16:00:00-2026-05-12 17:00:00
END:VEVENT
END:VCALENDAR